BEGIN:VCALENDAR
VERSION:2.0
PRODID:-//jEvents 2.0 for Joomla//EN
CALSCALE:GREGORIAN
METHOD:PUBLISH
BEGIN:VTIMEZONE
TZID:America/Detroit
BEGIN:STANDARD
DTSTART:20240111T090000
RDATE:20240310T030000
TZOFFSETFROM:-0400
TZOFFSETTO:-0500
TZNAME:America/Detroit EST
END:STANDARD
BEGIN:STANDARD
DTSTART:20241103T010000
RDATE:20250309T030000
TZOFFSETFROM:-0400
TZOFFSETTO:-0500
TZNAME:America/Detroit EST
END:STANDARD
BEGIN:STANDARD
DTSTART:20251102T010000
RDATE:20260308T030000
TZOFFSETFROM:-0400
TZOFFSETTO:-0500
TZNAME:America/Detroit EST
END:STANDARD
BEGIN:STANDARD
DTSTART:20261101T010000
RDATE:20270314T030000
TZOFFSETFROM:-0400
TZOFFSETTO:-0500
TZNAME:America/Detroit EST
END:STANDARD
BEGIN:STANDARD
DTSTART:20271107T010000
RDATE:20280312T030000
TZOFFSETFROM:-0400
TZOFFSETTO:-0500
TZNAME:America/Detroit EST
END:STANDARD
BEGIN:STANDARD
DTSTART:20281105T010000
RDATE:20290311T030000
TZOFFSETFROM:-0400
TZOFFSETTO:-0500
TZNAME:America/Detroit EST
END:STANDARD
BEGIN:STANDARD
DTSTART:20291104T010000
RDATE:20300310T030000
TZOFFSETFROM:-0400
TZOFFSETTO:-0500
TZNAME:America/Detroit EST
END:STANDARD
BEGIN:STANDARD
DTSTART:20301103T010000
RDATE:20310309T030000
TZOFFSETFROM:-0400
TZOFFSETTO:-0500
TZNAME:America/Detroit EST
END:STANDARD
BEGIN:STANDARD
DTSTART:20311102T010000
RDATE:20320314T030000
TZOFFSETFROM:-0400
TZOFFSETTO:-0500
TZNAME:America/Detroit EST
END:STANDARD
BEGIN:DAYLIGHT
DTSTART:20240310T030000
RDATE:20241103T010000
TZOFFSETFROM:-0500
TZOFFSETTO:-0400
TZNAME:America/Detroit EDT
END:DAYLIGHT
BEGIN:DAYLIGHT
DTSTART:20250309T030000
RDATE:20251102T010000
TZOFFSETFROM:-0500
TZOFFSETTO:-0400
TZNAME:America/Detroit EDT
END:DAYLIGHT
BEGIN:DAYLIGHT
DTSTART:20260308T030000
RDATE:20261101T010000
TZOFFSETFROM:-0500
TZOFFSETTO:-0400
TZNAME:America/Detroit EDT
END:DAYLIGHT
BEGIN:DAYLIGHT
DTSTART:20270314T030000
RDATE:20271107T010000
TZOFFSETFROM:-0500
TZOFFSETTO:-0400
TZNAME:America/Detroit EDT
END:DAYLIGHT
BEGIN:DAYLIGHT
DTSTART:20280312T030000
RDATE:20281105T010000
TZOFFSETFROM:-0500
TZOFFSETTO:-0400
TZNAME:America/Detroit EDT
END:DAYLIGHT
BEGIN:DAYLIGHT
DTSTART:20290311T030000
RDATE:20291104T010000
TZOFFSETFROM:-0500
TZOFFSETTO:-0400
TZNAME:America/Detroit EDT
END:DAYLIGHT
BEGIN:DAYLIGHT
DTSTART:20300310T030000
RDATE:20301103T010000
TZOFFSETFROM:-0500
TZOFFSETTO:-0400
TZNAME:America/Detroit EDT
END:DAYLIGHT
BEGIN:DAYLIGHT
DTSTART:20310309T030000
RDATE:20311102T010000
TZOFFSETFROM:-0500
TZOFFSETTO:-0400
TZNAME:America/Detroit EDT
END:DAYLIGHT
END:VTIMEZONE
BEGIN:VEVENT
UID:f15566a8a4574690add56c8fee688e56
CATEGORIES:Fellowship
CREATED:20240817T124255
SUMMARY:BIC Saturady Meetings | Weekly Fellowship
LOCATION:606 S. Wisner St. Jackson Michigan | St Catherine Room Upstairs
DESCRIPTION:Saturday MeetingsMeeting Format\n - Opening Prayers &amp; Prayer Intentions
 \n - Video Series\n - Open Discussion\n - Share Your Triumphs &amp; Struggl
 es\n - Prayer Requests for the Week\n - Closing Prayer \nDIRECTIONS (https:
 //www.google.com/maps/dir//Queen+of+the+Miraculous+Medal+Office,+606+S+Wisn
 er+St,+Jackson,+MI+49203/@42.2427152,-84.4700852,13z/data=!4m9!4m8!1m0!1m5!
 1m1!1s0x883d2548942990e3:0x8b8b2946580a37c9!2m2!1d-84.4288828!2d42.2427906!
 3e0?entry=ttu)\n
X-ALT-DESC;FMTTYPE=text/html:<h2>Saturday Meetings</h2><h3>Meeting Format</h3><ul><li>Opening Prayers &a
 mp; Prayer Intentions</li><li>Video Series</li><li>Open Discussion</li><li>
 Share Your Triumphs &amp; Struggles</li><li>Prayer Requests for the Week</l
 i><li>Closing Prayer</li></ul><p> </p><p><a style="color: #e1d1b7; font-siz
 e: 13px; background-color: #141529; display: inline-block; font-family: san
 s-serif; font-weight: bold; line-height: 48px; text-align: center; text-dec
 oration-line: none; width: 120px;" href="https://www.google.com/maps/dir//Q
 ueen+of+the+Miraculous+Medal+Office,+606+S+Wisner+St,+Jackson,+MI+49203/@42
 .2427152,-84.4700852,13z/data=!4m9!4m8!1m0!1m5!1m1!1s0x883d2548942990e3:0x8
 b8b2946580a37c9!2m2!1d-84.4288828!2d42.2427906!3e0?entry=ttu" target="_blan
 k" rel="noopener" data-saferedirecturl="https://www.google.com/url?q=https:
 //www.google.com/maps/dir//Queen%2Bof%2Bthe%2BMiraculous%2BMedal%2BOffice,%
 2B606%2BS%2BWisner%2BSt,%2BJackson,%2BMI%2B49203/@42.2427152,-84.4700852,13
 z/data%3D!4m9!4m8!1m0!1m5!1m1!1s0x883d2548942990e3:0x8b8b2946580a37c9!2m2!1
 d-84.4288828!2d42.2427906!3e0?entry%3Dttu&amp;source=gmail&amp;ust=17320259
 59657000&amp;usg=AOvVaw24d0uCcSf4RMZX8tHywg6n">DIRECTIONS</a></p>
DTSTAMP:20260421T053219
DTSTART;TZID=America/Detroit:20250111T090000
DTEND;TZID=America/Detroit:20250111T110000
SEQUENCE:0
TRANSP:OPAQUE
END:VEVENT
END:VCALENDAR