BEGIN:VCALENDAR
VERSION:2.0
PRODID:-//jEvents 2.0 for Joomla//EN
CALSCALE:GREGORIAN
METHOD:PUBLISH
BEGIN:VTIMEZONE
TZID:America/Detroit
BEGIN:STANDARD
DTSTART:20231105T010000
RDATE:20240310T030000
TZOFFSETFROM:-0400
TZOFFSETTO:-0500
TZNAME:America/Detroit EST
END:STANDARD
BEGIN:STANDARD
DTSTART:20241103T010000
RDATE:20250309T030000
TZOFFSETFROM:-0400
TZOFFSETTO:-0500
TZNAME:America/Detroit EST
END:STANDARD
BEGIN:STANDARD
DTSTART:20251102T010000
RDATE:20260308T030000
TZOFFSETFROM:-0400
TZOFFSETTO:-0500
TZNAME:America/Detroit EST
END:STANDARD
BEGIN:STANDARD
DTSTART:20261101T010000
RDATE:20270314T030000
TZOFFSETFROM:-0400
TZOFFSETTO:-0500
TZNAME:America/Detroit EST
END:STANDARD
BEGIN:STANDARD
DTSTART:20271107T010000
RDATE:20280312T030000
TZOFFSETFROM:-0400
TZOFFSETTO:-0500
TZNAME:America/Detroit EST
END:STANDARD
BEGIN:STANDARD
DTSTART:20281105T010000
RDATE:20290311T030000
TZOFFSETFROM:-0400
TZOFFSETTO:-0500
TZNAME:America/Detroit EST
END:STANDARD
BEGIN:STANDARD
DTSTART:20291104T010000
RDATE:20300310T030000
TZOFFSETFROM:-0400
TZOFFSETTO:-0500
TZNAME:America/Detroit EST
END:STANDARD
BEGIN:STANDARD
DTSTART:20301103T010000
RDATE:20310309T030000
TZOFFSETFROM:-0400
TZOFFSETTO:-0500
TZNAME:America/Detroit EST
END:STANDARD
BEGIN:STANDARD
DTSTART:20311102T010000
RDATE:20320314T030000
TZOFFSETFROM:-0400
TZOFFSETTO:-0500
TZNAME:America/Detroit EST
END:STANDARD
BEGIN:DAYLIGHT
DTSTART:20230819T180000
RDATE:20231105T010000
TZOFFSETFROM:-0500
TZOFFSETTO:-0400
TZNAME:America/Detroit EDT
END:DAYLIGHT
BEGIN:DAYLIGHT
DTSTART:20240310T030000
RDATE:20241103T010000
TZOFFSETFROM:-0500
TZOFFSETTO:-0400
TZNAME:America/Detroit EDT
END:DAYLIGHT
BEGIN:DAYLIGHT
DTSTART:20250309T030000
RDATE:20251102T010000
TZOFFSETFROM:-0500
TZOFFSETTO:-0400
TZNAME:America/Detroit EDT
END:DAYLIGHT
BEGIN:DAYLIGHT
DTSTART:20260308T030000
RDATE:20261101T010000
TZOFFSETFROM:-0500
TZOFFSETTO:-0400
TZNAME:America/Detroit EDT
END:DAYLIGHT
BEGIN:DAYLIGHT
DTSTART:20270314T030000
RDATE:20271107T010000
TZOFFSETFROM:-0500
TZOFFSETTO:-0400
TZNAME:America/Detroit EDT
END:DAYLIGHT
BEGIN:DAYLIGHT
DTSTART:20280312T030000
RDATE:20281105T010000
TZOFFSETFROM:-0500
TZOFFSETTO:-0400
TZNAME:America/Detroit EDT
END:DAYLIGHT
BEGIN:DAYLIGHT
DTSTART:20290311T030000
RDATE:20291104T010000
TZOFFSETFROM:-0500
TZOFFSETTO:-0400
TZNAME:America/Detroit EDT
END:DAYLIGHT
BEGIN:DAYLIGHT
DTSTART:20300310T030000
RDATE:20301103T010000
TZOFFSETFROM:-0500
TZOFFSETTO:-0400
TZNAME:America/Detroit EDT
END:DAYLIGHT
BEGIN:DAYLIGHT
DTSTART:20310309T030000
RDATE:20311102T010000
TZOFFSETFROM:-0500
TZOFFSETTO:-0400
TZNAME:America/Detroit EDT
END:DAYLIGHT
END:VTIMEZONE
BEGIN:VEVENT
UID:d7f68a2b9ad4be009a6e13824f072dd9
CATEGORIES:Fellowship
CREATED:20240817T120047
SUMMARY:BIC Weekly Fellowship
LOCATION:606 S. Wisner St. Jackson Michigan | St Catherine Room Upstairs
DESCRIPTION:<div><b>What: </b>Brother’s in Christ Fellowship- Please join us if you’re 
 able and willing - either in person or virtually. </div><div><b>Format:</b>
  Topic Lead Discussion &amp; Open Format</div><div> </div><div><b>Upcoming 
 &amp; Weekly Meetings:</b> <a href="meetings" target="_blank" rel="noopener
 " data-saferedirecturl="https://www.google.com/url?q=https://brothersinchri
 st.space/meetings&amp;source=gmail&amp;ust=1723997005259000&amp;usg=AOvVaw1
 E4kBMt7U4tkN5YNmBknDP">https://<wbr />brothersinchrist.space/<wbr />meeting
 s</a></div><div> </div><div><span style="font-family: georgia, serif;"><b>W
 here: </b>606 S Wisner St, Jackson, MI 49203 : St Catherine's Room</span></
 div><div><span style="font-family: georgia, serif;">***The top floor of the
  church office building. Enter on the ground floor entrance on the north ea
 st corner of the building, follow the stairs all the way to the top floor. 
 Or... follow the smell of coffee!!!!!</span></div><div><span style="font-fa
 mily: georgia, serif;"><br /><b>What if I can't come in person?:</b> No pro
 blem, Stream Live : https://meet.google.com/xhy-btsj-ysb</span></div><div><
 span style="font-family: georgia, serif;"><b> </b></span></div><div><b><spa
 n style="color: #0b5394; font-family: georgia, serif;">Buttons Below for Vi
 deo &amp; Directions....</span></b></div><div> </div><div><div><a class="sp
 pb-btn sppb-btn-custom sppb-btn-xlg sppb-btn-square" style="background-colo
 r: #141529; color: #e1d1b7;" href="https://meet.google.com/gmp-kcfq-vvg" ta
 rget="_blank" rel="noopener" data-saferedirecturl="https://www.google.com/u
 rl?q=https://meet.google.com/gmp-kcfq-vvg&amp;source=gmail&amp;ust=17239970
 05259000&amp;usg=AOvVaw0Gc_OxctdJHdASTqJ6c3IW">JOIN VIDEO</a>    <a class="
 sppb-btn  sppb-btn-custom sppb-btn-xlg sppb-btn-square" style="background-c
 olor: #141529; color: #e1d1b7;" href="https://www.google.com/maps/dir//Quee
 n+of+the+Miraculous+Medal+Office,+606+S+Wisner+St,+Jackson,+MI+49203/@42.24
 27152,-84.4700852,13z/data=!4m9!4m8!1m0!1m5!1m1!1s0x883d2548942990e3:0x8b8b
 2946580a37c9!2m2!1d-84.4288828!2d42.2427906!3e0?entry=ttu" target="_blank" 
 rel="noopener" data-saferedirecturl="https://www.google.com/url?q=https://w
 ww.google.com/maps/dir//Queen%2Bof%2Bthe%2BMiraculous%2BMedal%2BOffice,%2B6
 06%2BS%2BWisner%2BSt,%2BJackson,%2BMI%2B49203/@42.2427152,-84.4700852,13z/d
 ata%3D!4m9!4m8!1m0!1m5!1m1!1s0x883d2548942990e3:0x8b8b2946580a37c9!2m2!1d-8
 4.4288828!2d42.2427906!3e0?entry%3Dttu&amp;source=gmail&amp;ust=17239970052
 59000&amp;usg=AOvVaw1AriVAXM4iRZkkd0cThkjx">DIRECTIONS</a></div></div>
X-ALT-DESC;FMTTYPE=text/html:<div><b>What: </b>Brother’s in Christ Fellowship- Please join us if you’re 
 able and willing - either in person or virtually. </div><div><b>Format:</b>
  Topic Lead Discussion &amp; Open Format</div><div> </div><div><b>Upcoming 
 &amp; Weekly Meetings:</b> <a href="https://mail.brothersinchrist.space/mee
 tings" target="_blank" rel="noopener" data-saferedirecturl="https://www.goo
 gle.com/url?q=https://brothersinchrist.space/meetings&amp;source=gmail&amp;
 ust=1723997005259000&amp;usg=AOvVaw1E4kBMt7U4tkN5YNmBknDP">https://<wbr />b
 rothersinchrist.space/<wbr />meetings</a></div><div> </div><div><span style
 ="font-family: georgia, serif;"><b>Where: </b>606 S Wisner St, Jackson, MI 
 49203 : St Catherine's Room</span></div><div><span style="font-family: geor
 gia, serif;">***The top floor of the church office building. Enter on the g
 round floor entrance on the north east corner of the building, follow the s
 tairs all the way to the top floor. Or... follow the smell of coffee!!!!!</
 span></div><div><span style="font-family: georgia, serif;"><br /><b>What if
  I can't come in person?:</b> No problem, Stream Live : https://meet.google
 .com/xhy-btsj-ysb</span></div><div><span style="font-family: georgia, serif
 ;"><b> </b></span></div><div><b><span style="color: #0b5394; font-family: g
 eorgia, serif;">Buttons Below for Video &amp; Directions....</span></b></di
 v><div> </div><div><div><a class="sppb-btn sppb-btn-custom sppb-btn-xlg spp
 b-btn-square" style="background-color: #141529; color: #e1d1b7;" href="http
 s://meet.google.com/gmp-kcfq-vvg" target="_blank" rel="noopener" data-safer
 edirecturl="https://www.google.com/url?q=https://meet.google.com/gmp-kcfq-v
 vg&amp;source=gmail&amp;ust=1723997005259000&amp;usg=AOvVaw0Gc_OxctdJHdASTq
 J6c3IW">JOIN VIDEO</a>    <a class="sppb-btn  sppb-btn-custom sppb-btn-xlg 
 sppb-btn-square" style="background-color: #141529; color: #e1d1b7;" href="h
 ttps://www.google.com/maps/dir//Queen+of+the+Miraculous+Medal+Office,+606+S
 +Wisner+St,+Jackson,+MI+49203/@42.2427152,-84.4700852,13z/data=!4m9!4m8!1m0
 !1m5!1m1!1s0x883d2548942990e3:0x8b8b2946580a37c9!2m2!1d-84.4288828!2d42.242
 7906!3e0?entry=ttu" target="_blank" rel="noopener" data-saferedirecturl="ht
 tps://www.google.com/url?q=https://www.google.com/maps/dir//Queen%2Bof%2Bth
 e%2BMiraculous%2BMedal%2BOffice,%2B606%2BS%2BWisner%2BSt,%2BJackson,%2BMI%2
 B49203/@42.2427152,-84.4700852,13z/data%3D!4m9!4m8!1m0!1m5!1m1!1s0x883d2548
 942990e3:0x8b8b2946580a37c9!2m2!1d-84.4288828!2d42.2427906!3e0?entry%3Dttu&
 amp;source=gmail&amp;ust=1723997005259000&amp;usg=AOvVaw1AriVAXM4iRZkkd0cTh
 kjx">DIRECTIONS</a></div></div>
DTSTAMP:20260421T134205
DTSTART;TZID=America/Detroit:20240819T180000
DTEND;TZID=America/Detroit:20240819T200000
SEQUENCE:0
TRANSP:OPAQUE
END:VEVENT
END:VCALENDAR